BEGIN:VCALENDAR
VERSION:2.0
PRODID:-//WALITT SOLUTIONS - ECPv6.15.14//NONSGML v1.0//EN
CALSCALE:GREGORIAN
METHOD:PUBLISH
X-ORIGINAL-URL:https://walitt.com
X-WR-CALDESC:Events for WALITT SOLUTIONS
REFRESH-INTERVAL;VALUE=DURATION:PT1H
X-Robots-Tag:noindex
X-PUBLISHED-TTL:PT1H
BEGIN:VTIMEZONE
TZID:America/Denver
BEGIN:DAYLIGHT
TZOFFSETFROM:-0700
TZOFFSETTO:-0600
TZNAME:MDT
DTSTART:20250309T090000
END:DAYLIGHT
BEGIN:STANDARD
TZOFFSETFROM:-0600
TZOFFSETTO:-0700
TZNAME:MST
DTSTART:20251102T080000
END:STANDARD
BEGIN:DAYLIGHT
TZOFFSETFROM:-0700
TZOFFSETTO:-0600
TZNAME:MDT
DTSTART:20260308T090000
END:DAYLIGHT
BEGIN:STANDARD
TZOFFSETFROM:-0600
TZOFFSETTO:-0700
TZNAME:MST
DTSTART:20261101T080000
END:STANDARD
BEGIN:DAYLIGHT
TZOFFSETFROM:-0700
TZOFFSETTO:-0600
TZNAME:MDT
DTSTART:20270314T090000
END:DAYLIGHT
BEGIN:STANDARD
TZOFFSETFROM:-0600
TZOFFSETTO:-0700
TZNAME:MST
DTSTART:20271107T080000
END:STANDARD
END:VTIMEZONE
BEGIN:VEVENT
DTSTART;TZID=America/Denver:20260304T113000
DTEND;TZID=America/Denver:20260304T153000
DTSTAMP:20260422T012217
CREATED:20260226T190538Z
LAST-MODIFIED:20260226T190538Z
UID:4338-1772623800-1772638200@walitt.com
SUMMARY:A Roadmap to Reporting on the New URAR (4-hour CE) - Virtual
DESCRIPTION:The redesigned Uniform Residential Appraisal Report (URAR)\, built on the UAD 3.6 standard\, is now fully in production as of January 26\, 2026—making adoption a requirement for today’s appraisers. This course provides a clear\, practical introduction to the new dynamic reporting framework and prepares appraisers to produce compliant\, data‑rich reports that meet modern lender and regulatory expectations. \nLearners will explore how the traditional static forms have been replaced with a flexible\, property‑driven structure; how machine‑readable\, MISMO‑aligned data improves accuracy and review efficiency; and how integrated photos\, commentary\, and APIs streamline workflow and reduce addenda. The course highlights what these changes mean for appraisers\, lenders\, and the broader industry\, emphasizing improved consistency\, faster reviews\, and stronger risk assessment. \nBy the end\, participants will understand the redesigned URAR’s requirements and be equipped to deliver high‑quality reports in the UAD 3.6 environment. \nVirtual (Online) 4-hours\, Appraiser CE. \nThank you to Champions School of Real Estate
URL:https://walitt.com/event/a-roadmap-to-reporting-on-the-new-urar-4-hour-ce-virtual/
CATEGORIES:Appraisal Management Companies,Appraisers,Associations and Educators,Bank and Lenders,Other Clients,Regulators
END:VEVENT
BEGIN:VEVENT
DTSTART;TZID=America/Denver:20260320T100000
DTEND;TZID=America/Denver:20260320T130000
DTSTAMP:20260422T012217
CREATED:20260313T173259Z
LAST-MODIFIED:20260313T173355Z
UID:4389-1774000800-1774011600@walitt.com
SUMMARY:UAD 3.6 Readiness Workshop - Austin
DESCRIPTION:Join us on March 20 for an exclusive session with Lyle Radke\, Principal of Collateral Policy at Fannie Mae\, as he dives into the latest updates on the Uniform Appraisal Dataset (UAD) 3.6. Cindi Harris with Walitt Solutions will follow and take everyone through a DEEP DIVE into the what the new UAD 3.6 dynamic report looks like. Cindi will review each section in the new report to familiarize the audience with what to expect and highlight the CHANGES coming. A Q&A session will follow. Don’t miss this chance to stay ahead of appraisal standards and compliance changes! \nHosted by the iappraisal and the Austin Board of REALTORS®\, this event offers residential mortgage lenders a unique opportunity to gain insights and ask questions directly from a leading industry expert. \nAustin\, 3-hours non-CE
URL:https://walitt.com/event/uad-3-6-readiness-workshop-austin/
CATEGORIES:Appraisal Management Companies,Appraisers,Associations and Educators,Bank and Lenders,Other Clients,Regulators
END:VEVENT
BEGIN:VEVENT
DTSTART;TZID=America/Denver:20260324T100000
DTEND;TZID=America/Denver:20260324T110000
DTSTAMP:20260422T012217
CREATED:20260312T194420Z
LAST-MODIFIED:20260312T194420Z
UID:4384-1774346400-1774350000@walitt.com
SUMMARY:AI & the Lending Ecosystem (non-CE) - Virtual
DESCRIPTION:AI adoption across mortgage lending is accelerating — and the valuation function sits squarely at the intersection of risk\, regulation\, and data. This 60-minute webinar cuts through the noise to deliver a clear-eyed\, strategic examination of what artificial intelligence actually means for lenders\, appraisal management companies\, and appraisers today. \nYou’ll leave with a practical framework for evaluating how AI is already reshaping collateral risk decisions\, what governance obligations now attach to its use\, and what it will take for your organization to stay both competitive and defensible as the landscape continues to shift. \nVirtual (online)\, 1 hour\, non-CE
URL:https://walitt.com/event/ai-the-lending-ecosystem-non-ce-virtual/
CATEGORIES:Appraisal Management Companies,Appraisers,Associations and Educators,Bank and Lenders,Other Clients,Regulators
END:VEVENT
BEGIN:VEVENT
DTSTART;TZID=America/Denver:20260326T124500
DTEND;TZID=America/Denver:20260326T143000
DTSTAMP:20260422T012217
CREATED:20260312T192225Z
LAST-MODIFIED:20260318T203911Z
UID:4382-1774529100-1774535400@walitt.com
SUMMARY:2026 Spring IAC Public Meeting - Miami
DESCRIPTION:The Walitt team will be attending the 2026 Spring IAC Public Meeting in Miami! We hope to see you there. \nJoshua Walitt will be moderating a Commercial and Residential Work session at the 2026 Spring IAC Public Meeting that will be held March 26 in Miami\, FL at the Hyatt Regency Miami. \nSet an appointment to meet with us: support@walitt.com.
URL:https://walitt.com/event/2026-spring-iac-public-meeting-miami/
CATEGORIES:Appraisal Management Companies,Appraisers,Associations and Educators,Bank and Lenders,Other Clients,Regulators
END:VEVENT
BEGIN:VEVENT
DTSTART;TZID=America/Denver:20260331T090000
DTEND;TZID=America/Denver:20260331T120000
DTSTAMP:20260422T012217
CREATED:20260114T172016Z
LAST-MODIFIED:20260114T195553Z
UID:4217-1774947600-1774958400@walitt.com
SUMMARY:Supporting Adjustments and Reporting the Sales Comparison Approach in the New URAR (CE) - Virtual
DESCRIPTION:The new Uniform Residential Appraisal Report (URAR) challenges appraisers to deliver a report in a confident manner to clients with a credible analysis that meets the minimum reporting requirements of the Government-Sponsored Enterprises (GSEs). The new URAR requires that support for adjustments be included directly in the appraisal report\, so residential practitioners need to understand the expectations of the GSEs and underwriters around these topics. Supporting Adjustments and Reporting the Sales Comparison Approach in the New URAR is a three-hour program that focuses on an effective manner of developing and supporting the sales comparison approach section of the new URAR. Case studies will represent real-world residential appraisal valuation problems and the multiple qualitative and quantitative ways that each of the major adjustments in a residential sales grid can be supported. Since the applicable and appropriate techniques for any specific adjustment usually produce some variation in the indicated contributory value\, the art and science of reconciliation will also be emphasized through repeated application. The program will be valuable for residential appraisers to strengthen their proficiency in both the sales comparison approach and in supporting the adjustments used in the sales grid. The program will also be valuable for reviewers of residential reports. \nVirtual (Online)\, 4 hours\, Appraiser CE \nThank you to the Appraisal Institute Colorado Chapter.
URL:https://walitt.com/event/supporting-adjustments-and-reporting-the-sales-comparison-approach-in-the-new-urar-ce-virtual/
CATEGORIES:Appraisal Management Companies,Appraisers,Associations and Educators,Bank and Lenders,Other Clients,Regulators
END:VEVENT
END:VCALENDAR