BEGIN:VCALENDAR
VERSION:2.0
PRODID:-//WALITT SOLUTIONS - ECPv6.15.14//NONSGML v1.0//EN
CALSCALE:GREGORIAN
METHOD:PUBLISH
X-WR-CALNAME:WALITT SOLUTIONS
X-ORIGINAL-URL:https://walitt.com
X-WR-CALDESC:Events for WALITT SOLUTIONS
REFRESH-INTERVAL;VALUE=DURATION:PT1H
X-Robots-Tag:noindex
X-PUBLISHED-TTL:PT1H
BEGIN:VTIMEZONE
TZID:UTC
BEGIN:STANDARD
TZOFFSETFROM:+0000
TZOFFSETTO:+0000
TZNAME:UTC
DTSTART:20250101T000000
END:STANDARD
END:VTIMEZONE
BEGIN:VTIMEZONE
TZID:America/Denver
BEGIN:DAYLIGHT
TZOFFSETFROM:-0700
TZOFFSETTO:-0600
TZNAME:MDT
DTSTART:20250309T090000
END:DAYLIGHT
BEGIN:STANDARD
TZOFFSETFROM:-0600
TZOFFSETTO:-0700
TZNAME:MST
DTSTART:20251102T080000
END:STANDARD
BEGIN:DAYLIGHT
TZOFFSETFROM:-0700
TZOFFSETTO:-0600
TZNAME:MDT
DTSTART:20260308T090000
END:DAYLIGHT
BEGIN:STANDARD
TZOFFSETFROM:-0600
TZOFFSETTO:-0700
TZNAME:MST
DTSTART:20261101T080000
END:STANDARD
BEGIN:DAYLIGHT
TZOFFSETFROM:-0700
TZOFFSETTO:-0600
TZNAME:MDT
DTSTART:20270314T090000
END:DAYLIGHT
BEGIN:STANDARD
TZOFFSETFROM:-0600
TZOFFSETTO:-0700
TZNAME:MST
DTSTART:20271107T080000
END:STANDARD
END:VTIMEZONE
BEGIN:VTIMEZONE
TZID:America/Los_Angeles
BEGIN:DAYLIGHT
TZOFFSETFROM:-0800
TZOFFSETTO:-0700
TZNAME:PDT
DTSTART:20250309T100000
END:DAYLIGHT
BEGIN:STANDARD
TZOFFSETFROM:-0700
TZOFFSETTO:-0800
TZNAME:PST
DTSTART:20251102T090000
END:STANDARD
BEGIN:DAYLIGHT
TZOFFSETFROM:-0800
TZOFFSETTO:-0700
TZNAME:PDT
DTSTART:20260308T100000
END:DAYLIGHT
BEGIN:STANDARD
TZOFFSETFROM:-0700
TZOFFSETTO:-0800
TZNAME:PST
DTSTART:20261101T090000
END:STANDARD
BEGIN:DAYLIGHT
TZOFFSETFROM:-0800
TZOFFSETTO:-0700
TZNAME:PDT
DTSTART:20270314T100000
END:DAYLIGHT
BEGIN:STANDARD
TZOFFSETFROM:-0700
TZOFFSETTO:-0800
TZNAME:PST
DTSTART:20271107T090000
END:STANDARD
END:VTIMEZONE
BEGIN:VEVENT
DTSTART;VALUE=DATE:20260816
DTEND;VALUE=DATE:20260820
DTSTAMP:20260422T061753
CREATED:20260114T173206Z
LAST-MODIFIED:20260114T173413Z
UID:4226-1786838400-1787183999@walitt.com
SUMMARY:Valuation Expo - Las Vegas
DESCRIPTION:The Walitt team will be sponsoring and attending the Valuation Expo in 2026! We hope to see you there. \nWelcome to the Valuation Expo 2026\, where smart appraisers from across the nation converge to Learn\, Network\, and Prosper. Held at the iconic Caesars Palace in Las Vegas from August 16-19. Join us as we delve into the future of appraisal with discussions on Freddie Mac and Fannie Mae’s new URAR\, cutting-edge technology\, and data trends. Whether you’re an appraiser\, part of an AMC\, lender\, technology company\, software company\, educator\, or involved in E&O Insurance\, this conference is your premier opportunity to stay at the forefront of industry advancements. Don’t miss the chance to meet the decision makers and get the answers on the new URAR being implemented this year. \nLas Vegas\, up to 14 hours of Appraiser CE \nSet an appointment to meet with us: support@walitt.com.
URL:https://walitt.com/event/valuation-expo-las-vegas/
CATEGORIES:Appraisal Management Companies,Appraisers,Associations and Educators,Bank and Lenders,Other Clients,Regulators
END:VEVENT
BEGIN:VEVENT
DTSTART;TZID=America/Denver:20260901T090000
DTEND;TZID=America/Denver:20260901T123000
DTSTAMP:20260422T061753
CREATED:20260114T200539Z
LAST-MODIFIED:20260114T200606Z
UID:4262-1788253200-1788265800@walitt.com
SUMMARY:The Appraiser's Guide to the New URAR (CE) 2 days - Virtual
DESCRIPTION:This course offers an in-depth exploration of the new dynamic Uniform Residential Appraisal Report (URAR) applicable to all residential property types. Students will learn the requirements of the new URAR\, which is designed to support more thorough appraisal analysis and reporting\, ensuring they are well-equipped to adopt and implement these advancements in their professional practice. By the end of this course\, students will gain a deep understanding of the dynamic URAR and expectations for completing the report. \nObjectives: \n\nExplore the dynamic appraisal reports (URAR\, Appraisal Update Report\, and Completion Report) and the transition to eliminate property type-specific forms\nBecome familiar with the new reporting features of the appraisal reports\nLearn the basics of the new Uniform Appraisal Dataset (UAD)\nExamine expanded data requirements\nUnderstand your responsibilities in the new appraisal reporting process.\n\nThis is a TWO-DAY class on September 1 and 2\, 2026. Click the website link for details. \nVirtual (Online)\, 7 hours\, Appraiser CE \nThank you to Appraiser eLearning.
URL:https://walitt.com/event/the-appraisers-guide-to-the-new-urar-ce-2-days-virtual-2/
CATEGORIES:Appraisal Management Companies,Appraisers,Associations and Educators,Bank and Lenders,Other Clients,Regulators
END:VEVENT
BEGIN:VEVENT
DTSTART;TZID=America/Denver:20260923T090000
DTEND;TZID=America/Denver:20260923T130000
DTSTAMP:20260422T061753
CREATED:20260114T200756Z
LAST-MODIFIED:20260114T201029Z
UID:4264-1790154000-1790168400@walitt.com
SUMMARY:Ultimate Workfile: What\, When\, Why (CE) - Virtual
DESCRIPTION:Given the changing expectations for the appraisal industry\, it is critical that professional appraisers ensure their research and reporting meets expectations. The workfile holds (or should hold!) evidence of proper research\, analyses\, and methods\, to show support for the conclusions in the appraisal report. Need a refresher or never focused a critical eye on your workfile. Take a look with us! \nThis course will delve into the USPAP Record Keeping rule and breakdown each of the components that should be contained in an appraiser’s workfile. The instructor will also review USPAP’s FAQ while helping the student to analyze other situations where these guidelines would apply. The student will learn how to create a checklist to ensure that each workfile is correctly assembled. They will develop the ability to identify what to retain\, when it needs to be retained and why each component is needed in the workfile. They will gain a deeper comprehension of how to prevent common record keeping mistakes. Students will examine real world examples of proper and improper workfiles. \nVirtual (Online)\, 4 hours\, Appraiser CE \nThank you to Appraiser eLearning.
URL:https://walitt.com/event/ultimate-workfile-what-when-why-ce-virtual/
CATEGORIES:Appraisal Management Companies,Appraisers,Associations and Educators,Bank and Lenders,Other Clients,Regulators
END:VEVENT
BEGIN:VEVENT
DTSTART;VALUE=DATE:20261031
DTEND;VALUE=DATE:20261104
DTSTAMP:20260422T061753
CREATED:20260114T173528Z
LAST-MODIFIED:20260114T190824Z
UID:4231-1793404800-1793750399@walitt.com
SUMMARY:Appraisal Summit - Las Vegas
DESCRIPTION:The Walitt team will be sponsoring and attending the Appraisal Summit in 2026! We hope to see you there. \nJoin co-hosts\, the National Association of Appraisers and Appraiser eLearning\, at the 17th annual Appraisal Summit\, October 31-November 3\, in Las Vegas at Planet Hollywood Resort and Casino. This conference will focus on bringing together professionals in the field of real estate appraisal to discuss industry trends\, best practices\, and professional development. The conference will feature keynote speakers\, workshops\, panel discussions\, and networking opportunities tailored to the needs and interests of real estate appraisers. \nLas Vegas\, up to 14 hours of Appraiser CE \nSet an appointment to meet with us: support@walitt.com.
URL:https://walitt.com/event/appraisal-summit-las-vegas/
CATEGORIES:Appraisal Management Companies,Appraisers,Associations and Educators,Bank and Lenders,Other Clients,Regulators
END:VEVENT
END:VCALENDAR