BEGIN:VCALENDAR
VERSION:2.0
PRODID:-//WALITT SOLUTIONS - ECPv6.15.14//NONSGML v1.0//EN
CALSCALE:GREGORIAN
METHOD:PUBLISH
X-ORIGINAL-URL:https://walitt.com
X-WR-CALDESC:Events for WALITT SOLUTIONS
REFRESH-INTERVAL;VALUE=DURATION:PT1H
X-Robots-Tag:noindex
X-PUBLISHED-TTL:PT1H
BEGIN:VTIMEZONE
TZID:America/Denver
BEGIN:DAYLIGHT
TZOFFSETFROM:-0700
TZOFFSETTO:-0600
TZNAME:MDT
DTSTART:20250309T090000
END:DAYLIGHT
BEGIN:STANDARD
TZOFFSETFROM:-0600
TZOFFSETTO:-0700
TZNAME:MST
DTSTART:20251102T080000
END:STANDARD
BEGIN:DAYLIGHT
TZOFFSETFROM:-0700
TZOFFSETTO:-0600
TZNAME:MDT
DTSTART:20260308T090000
END:DAYLIGHT
BEGIN:STANDARD
TZOFFSETFROM:-0600
TZOFFSETTO:-0700
TZNAME:MST
DTSTART:20261101T080000
END:STANDARD
BEGIN:DAYLIGHT
TZOFFSETFROM:-0700
TZOFFSETTO:-0600
TZNAME:MDT
DTSTART:20270314T090000
END:DAYLIGHT
BEGIN:STANDARD
TZOFFSETFROM:-0600
TZOFFSETTO:-0700
TZNAME:MST
DTSTART:20271107T080000
END:STANDARD
END:VTIMEZONE
BEGIN:VEVENT
DTSTART;TZID=America/Denver:20260715T090000
DTEND;TZID=America/Denver:20260715T123000
DTSTAMP:20260422T041140
CREATED:20260114T200215Z
LAST-MODIFIED:20260114T200628Z
UID:4260-1784106000-1784118600@walitt.com
SUMMARY:The Appraiser's Guide to the New URAR (CE) 2 days - Virtual
DESCRIPTION:This course offers an in-depth exploration of the new dynamic Uniform Residential Appraisal Report (URAR) applicable to all residential property types. Students will learn the requirements of the new URAR\, which is designed to support more thorough appraisal analysis and reporting\, ensuring they are well-equipped to adopt and implement these advancements in their professional practice. By the end of this course\, students will gain a deep understanding of the dynamic URAR and expectations for completing the report. \nObjectives: \n\nExplore the dynamic appraisal reports (URAR\, Appraisal Update Report\, and Completion Report) and the transition to eliminate property type-specific forms\nBecome familiar with the new reporting features of the appraisal reports\nLearn the basics of the new Uniform Appraisal Dataset (UAD)\nExamine expanded data requirements\nUnderstand your responsibilities in the new appraisal reporting process.\n\nThis is a TWO-DAY class on July 15 and 16\, 2026. Click the website link for details. \nVirtual (Online)\, 7 hours\, Appraiser CE \nThank you to Appraiser eLearning.
URL:https://walitt.com/event/the-appraisers-guide-to-the-new-urar-ce-2-days-virtual/
CATEGORIES:Appraisal Management Companies,Appraisers,Associations and Educators,Bank and Lenders,Other Clients,Regulators
END:VEVENT
END:VCALENDAR