BEGIN:VCALENDAR
VERSION:2.0
PRODID:-//WALITT SOLUTIONS - ECPv6.15.14//NONSGML v1.0//EN
CALSCALE:GREGORIAN
METHOD:PUBLISH
X-WR-CALNAME:WALITT SOLUTIONS
X-ORIGINAL-URL:https://walitt.com
X-WR-CALDESC:Events for WALITT SOLUTIONS
REFRESH-INTERVAL;VALUE=DURATION:PT1H
X-Robots-Tag:noindex
X-PUBLISHED-TTL:PT1H
BEGIN:VTIMEZONE
TZID:America/Denver
BEGIN:DAYLIGHT
TZOFFSETFROM:-0700
TZOFFSETTO:-0600
TZNAME:MDT
DTSTART:20250309T090000
END:DAYLIGHT
BEGIN:STANDARD
TZOFFSETFROM:-0600
TZOFFSETTO:-0700
TZNAME:MST
DTSTART:20251102T080000
END:STANDARD
BEGIN:DAYLIGHT
TZOFFSETFROM:-0700
TZOFFSETTO:-0600
TZNAME:MDT
DTSTART:20260308T090000
END:DAYLIGHT
BEGIN:STANDARD
TZOFFSETFROM:-0600
TZOFFSETTO:-0700
TZNAME:MST
DTSTART:20261101T080000
END:STANDARD
BEGIN:DAYLIGHT
TZOFFSETFROM:-0700
TZOFFSETTO:-0600
TZNAME:MDT
DTSTART:20270314T090000
END:DAYLIGHT
BEGIN:STANDARD
TZOFFSETFROM:-0600
TZOFFSETTO:-0700
TZNAME:MST
DTSTART:20271107T080000
END:STANDARD
END:VTIMEZONE
BEGIN:VEVENT
DTSTART;TZID=America/Denver:20260505T113000
DTEND;TZID=America/Denver:20260505T153000
DTSTAMP:20260422T023900
CREATED:20260313T182309Z
LAST-MODIFIED:20260313T182821Z
UID:4394-1777980600-1777995000@walitt.com
SUMMARY:A Roadmap to Reporting on the New URAR (CE) - Virtual
DESCRIPTION:The redesigned Uniform Residential Appraisal Report (URAR)\, built on the UAD 3.6 standard\, is now fully in production as of January 26\, 2026—making adoption a requirement for today’s appraisers. This course provides a clear\, practical introduction to the new dynamic reporting framework and prepares appraisers to produce compliant\, data‑rich reports that meet modern lender and regulatory expectations. \nLearners will explore how the traditional static forms have been replaced with a flexible\, property‑driven structure; how machine‑readable\, MISMO‑aligned data improves accuracy and review efficiency; and how integrated photos\, commentary\, and APIs streamline workflow and reduce addenda. The course highlights what these changes mean for appraisers\, lenders\, and the broader industry\, emphasizing improved consistency\, faster reviews\, and stronger risk assessment. \nBy the end\, participants will understand the redesigned URAR’s requirements and be equipped to deliver high‑quality reports in the UAD 3.6 environment. \nVirtual (Online)\, 4 hours\, Appraiser CE \nThank you to Champions School of Real Estate.
URL:https://walitt.com/event/a-roadmap-to-reporting-on-the-new-urar-ce-virtual/
CATEGORIES:Appraisal Management Companies,Appraisers,Associations and Educators,Bank and Lenders,Other Clients,Regulators
END:VEVENT
END:VCALENDAR