BEGIN:VCALENDAR
VERSION:2.0
PRODID:-//WALITT SOLUTIONS - ECPv6.15.14//NONSGML v1.0//EN
CALSCALE:GREGORIAN
METHOD:PUBLISH
X-WR-CALNAME:WALITT SOLUTIONS
X-ORIGINAL-URL:https://walitt.com
X-WR-CALDESC:Events for WALITT SOLUTIONS
REFRESH-INTERVAL;VALUE=DURATION:PT1H
X-Robots-Tag:noindex
X-PUBLISHED-TTL:PT1H
BEGIN:VTIMEZONE
TZID:America/Denver
BEGIN:DAYLIGHT
TZOFFSETFROM:-0700
TZOFFSETTO:-0600
TZNAME:MDT
DTSTART:20250309T090000
END:DAYLIGHT
BEGIN:STANDARD
TZOFFSETFROM:-0600
TZOFFSETTO:-0700
TZNAME:MST
DTSTART:20251102T080000
END:STANDARD
BEGIN:DAYLIGHT
TZOFFSETFROM:-0700
TZOFFSETTO:-0600
TZNAME:MDT
DTSTART:20260308T090000
END:DAYLIGHT
BEGIN:STANDARD
TZOFFSETFROM:-0600
TZOFFSETTO:-0700
TZNAME:MST
DTSTART:20261101T080000
END:STANDARD
BEGIN:DAYLIGHT
TZOFFSETFROM:-0700
TZOFFSETTO:-0600
TZNAME:MDT
DTSTART:20270314T090000
END:DAYLIGHT
BEGIN:STANDARD
TZOFFSETFROM:-0600
TZOFFSETTO:-0700
TZNAME:MST
DTSTART:20271107T080000
END:STANDARD
END:VTIMEZONE
BEGIN:VEVENT
DTSTART;TZID=America/Denver:20260423T130000
DTEND;TZID=America/Denver:20260423T160000
DTSTAMP:20260421T234416
CREATED:20260212T200005Z
LAST-MODIFIED:20260212T200546Z
UID:4322-1776949200-1776960000@walitt.com
SUMMARY:Sales Comparison Approach and the New URAR (CE) - Virtual
DESCRIPTION:This course provides an in-depth examination of the sales comparison approach in the new Uniform Residential Appraisal Report (URAR). The new URAR is a uniform residential appraisal report designed for various mortgage appraisal assignments\, including comprehensive reporting for multiple property types (1 to 4 units\, condominiums\, co-ops\, and manufactured homes). \nDuring this course\, you will examine various factors that impact property value and learn how to report these details in the sales comparison grid. You will also learn how to navigate the URAR Reference Guide F-1 while exploring key sections of the sales comparison grid. Special attention is given to new reporting requirements\, criteria for including optional rows\, and best practices for supporting your sales comparison analysis. By the conclusion of this course\, you will have the knowledge and skills necessary to apply the sales comparison approach using the new URAR\, thereby improving the credibility and clarity of your mortgage lending appraisal reports. \nVirtual (Online)\, 3 hours\, Appraiser CE \nThank you to McKissock Learning.
URL:https://walitt.com/event/sales-comparison-approach-and-the-new-urar-ce-virtual/
CATEGORIES:Appraisal Management Companies,Appraisers,Associations and Educators,Bank and Lenders,Regulators
END:VEVENT
BEGIN:VEVENT
DTSTART;TZID=America/Denver:20260427T113000
DTEND;TZID=America/Denver:20260427T130000
DTSTAMP:20260421T234416
CREATED:20260312T200758Z
LAST-MODIFIED:20260312T200758Z
UID:4386-1777289400-1777294800@walitt.com
SUMMARY:2026 Spring AARO Conference - San Diego
DESCRIPTION:The Walitt team will be attending the 2026 Spring IAC Public Meeting in Miami! We hope to see you there. \nJoshua Walitt and Victoria Reel-Kersch will be presenting “An Inside View of State Regulator Experience: Case Studies on Irregularities in Regulatory Agencies” at the 2026 Spring AARO Conference that will be held April 27-29 in San Diego\, CA at the Wyndham San Diego Bayside. \nSet an appointment to meet with us: support@walitt.com.
URL:https://walitt.com/event/2026-spring-aaro-conference-san-diego/
CATEGORIES:Appraisal Management Companies,Appraisers,Associations and Educators,Bank and Lenders,Other Clients,Regulators
END:VEVENT
END:VCALENDAR