BEGIN:VCALENDAR
VERSION:2.0
PRODID:-//WALITT SOLUTIONS - ECPv6.15.14//NONSGML v1.0//EN
CALSCALE:GREGORIAN
METHOD:PUBLISH
X-ORIGINAL-URL:https://walitt.com
X-WR-CALDESC:Events for WALITT SOLUTIONS
REFRESH-INTERVAL;VALUE=DURATION:PT1H
X-Robots-Tag:noindex
X-PUBLISHED-TTL:PT1H
BEGIN:VTIMEZONE
TZID:UTC
BEGIN:STANDARD
TZOFFSETFROM:+0000
TZOFFSETTO:+0000
TZNAME:UTC
DTSTART:20230101T000000
END:STANDARD
END:VTIMEZONE
BEGIN:VTIMEZONE
TZID:America/Denver
BEGIN:DAYLIGHT
TZOFFSETFROM:-0700
TZOFFSETTO:-0600
TZNAME:MDT
DTSTART:20220313T090000
END:DAYLIGHT
BEGIN:STANDARD
TZOFFSETFROM:-0600
TZOFFSETTO:-0700
TZNAME:MST
DTSTART:20221106T080000
END:STANDARD
BEGIN:DAYLIGHT
TZOFFSETFROM:-0700
TZOFFSETTO:-0600
TZNAME:MDT
DTSTART:20230312T090000
END:DAYLIGHT
BEGIN:STANDARD
TZOFFSETFROM:-0600
TZOFFSETTO:-0700
TZNAME:MST
DTSTART:20231105T080000
END:STANDARD
BEGIN:DAYLIGHT
TZOFFSETFROM:-0700
TZOFFSETTO:-0600
TZNAME:MDT
DTSTART:20240310T090000
END:DAYLIGHT
BEGIN:STANDARD
TZOFFSETFROM:-0600
TZOFFSETTO:-0700
TZNAME:MST
DTSTART:20241103T080000
END:STANDARD
END:VTIMEZONE
BEGIN:VEVENT
DTSTART;VALUE=DATE:20240101
DTEND;VALUE=DATE:20250101
DTSTAMP:20260422T055223
CREATED:20231212T204335Z
LAST-MODIFIED:20231228T174517Z
UID:3274-1704067200-1735689599@walitt.com
SUMMARY:Book a Custom Class for Your Group!
DESCRIPTION:Want to schedule a class from our catalog of courses? Or do you not see a topic that your office\, agency or professional association needs? \nRequest a class today!
URL:https://walitt.com/event/test-event/
CATEGORIES:Appraisal Management Companies,Appraisers,Associations and Educators,Bank and Lenders,Other Clients,Private Event,Regulators
ATTACH;FMTTYPE=image/png:https://walitt.com/wp-content/uploads/2023/12/Walitt-Solutions-logo-cropped-p-e1716329980178.png
END:VEVENT
BEGIN:VEVENT
DTSTART;VALUE=DATE:20240101
DTEND;VALUE=DATE:20250101
DTSTAMP:20260422T055223
CREATED:20231220T160003Z
LAST-MODIFIED:20231221T211336Z
UID:3360-1704067200-1735689599@walitt.com
SUMMARY:Efficient Appraisal Practice Webinars (Recorded)
DESCRIPTION:This webinar series is available through the American Society of Appraisers (ASA). Series of five webinars focuses on the benefits from assistants\, going beyond mere data entry\, getting maximum benefit\, procedures and training\, and putting the plan into action. \nGo to American Society of Appraisers for details and to enroll (look under On Demand/ Self Study). Or go to each individually: One\, Two\, Three\, Four\, Five.
URL:https://walitt.com/event/efficient-appraisal-practice-webinars-recorded/
CATEGORIES:Appraisers
ATTACH;FMTTYPE=image/jpeg:https://walitt.com/wp-content/uploads/2023/12/shutterstock_2085055825-scaled.jpg
END:VEVENT
BEGIN:VEVENT
DTSTART;TZID=America/Denver:20231222T080000
DTEND;TZID=America/Denver:20231222T170000
DTSTAMP:20260422T055223
CREATED:20231222T185408Z
LAST-MODIFIED:20231229T213802Z
UID:3486-1703232000-1703264400@walitt.com
SUMMARY:Real World Adjustments (3 hr CE) Feb 13 - Zoom
DESCRIPTION:Join your state’s chapter of the Real Estate Appraisers Association\, as Joshua Walitt instructs the 3-hour Real World Adjustments course. Class is held for on February 13. \nGo to the Real Estate Appraisers Association website to enroll by selecting your state and topic.
URL:https://walitt.com/event/real-world-adjustments-feb-13-zoom/
CATEGORIES:Appraisers
ATTACH;FMTTYPE=image/jpeg:https://walitt.com/wp-content/uploads/2023/12/AdobeStock_618081977-1-scaled.jpeg
END:VEVENT
END:VCALENDAR