BEGIN:VCALENDAR
VERSION:2.0
PRODID:-//WALITT SOLUTIONS - ECPv6.15.14//NONSGML v1.0//EN
CALSCALE:GREGORIAN
METHOD:PUBLISH
X-ORIGINAL-URL:https://walitt.com
X-WR-CALDESC:Events for WALITT SOLUTIONS
REFRESH-INTERVAL;VALUE=DURATION:PT1H
X-Robots-Tag:noindex
X-PUBLISHED-TTL:PT1H
BEGIN:VTIMEZONE
TZID:UTC
BEGIN:STANDARD
TZOFFSETFROM:+0000
TZOFFSETTO:+0000
TZNAME:UTC
DTSTART:20250101T000000
END:STANDARD
END:VTIMEZONE
BEGIN:VEVENT
DTSTART;VALUE=DATE:20260411
DTEND;VALUE=DATE:20260415
DTSTAMP:20260422T012223
CREATED:20260114T172647Z
LAST-MODIFIED:20260114T173353Z
UID:4221-1775865600-1776211199@walitt.com
SUMMARY:Appraiser's Conference and Trade Show (ACTS) - Seattle
DESCRIPTION:The Walitt team will be sponsoring and attending the ACTS in 2026! We hope to see you there. \nJoin co-hosts\, the National Association of Appraisers and Appraiser eLearning\,  at the 8th annual Appraiser’s Conference and Trade Show (ACTS) that will be held April 11-14 in Seattle\, WA at the Seattle Airport Marriott Hotel. \nSeattle\, up to 14 hours of Appraiser CE \nSet an appointment to meet with us: support@walitt.com.
URL:https://walitt.com/event/appraisers-conference-and-trade-show-acts-seattle/
CATEGORIES:Appraisal Management Companies,Appraisers,Associations and Educators,Bank and Lenders,Other Clients,Regulators
END:VEVENT
END:VCALENDAR