BEGIN:VCALENDAR
VERSION:2.0
PRODID:-//WALITT SOLUTIONS - ECPv6.15.14//NONSGML v1.0//EN
CALSCALE:GREGORIAN
METHOD:PUBLISH
X-ORIGINAL-URL:https://walitt.com
X-WR-CALDESC:Events for WALITT SOLUTIONS
REFRESH-INTERVAL;VALUE=DURATION:PT1H
X-Robots-Tag:noindex
X-PUBLISHED-TTL:PT1H
BEGIN:VTIMEZONE
TZID:America/Denver
BEGIN:DAYLIGHT
TZOFFSETFROM:-0700
TZOFFSETTO:-0600
TZNAME:MDT
DTSTART:20230312T090000
END:DAYLIGHT
BEGIN:STANDARD
TZOFFSETFROM:-0600
TZOFFSETTO:-0700
TZNAME:MST
DTSTART:20231105T080000
END:STANDARD
BEGIN:DAYLIGHT
TZOFFSETFROM:-0700
TZOFFSETTO:-0600
TZNAME:MDT
DTSTART:20240310T090000
END:DAYLIGHT
BEGIN:STANDARD
TZOFFSETFROM:-0600
TZOFFSETTO:-0700
TZNAME:MST
DTSTART:20241103T080000
END:STANDARD
BEGIN:DAYLIGHT
TZOFFSETFROM:-0700
TZOFFSETTO:-0600
TZNAME:MDT
DTSTART:20250309T090000
END:DAYLIGHT
BEGIN:STANDARD
TZOFFSETFROM:-0600
TZOFFSETTO:-0700
TZNAME:MST
DTSTART:20251102T080000
END:STANDARD
END:VTIMEZONE
BEGIN:VTIMEZONE
TZID:UTC
BEGIN:STANDARD
TZOFFSETFROM:+0000
TZOFFSETTO:+0000
TZNAME:UTC
DTSTART:20230101T000000
END:STANDARD
END:VTIMEZONE
BEGIN:VEVENT
DTSTART;TZID=America/Denver:20240619T090000
DTEND;TZID=America/Denver:20240619T130000
DTSTAMP:20260422T025306
CREATED:20240306T222403Z
LAST-MODIFIED:20240530T205733Z
UID:3622-1718787600-1718802000@walitt.com
SUMMARY:Ultimate Workfile: What\, When\, Why (4 hr CE) June 19 - Zoom
DESCRIPTION:Join Josh Walitt with Appraiser eLearning as he instructs the Ultimate Workfile course over Zoom on June 19 and delve into the USPAP Record Keeping Rule and break down each component that should be in an appraiser’s workfile. You will review USPAP’s FAQ to aid learn how to apply the Rule’s requirements\, as well as creating a checklist to ensure correct assembly of your workfile. You will develop the ability to discern what to retain\, when to retain it\, and why the important information is important. Gain a deeper comprehension of common mistakes and examine real world examples of proper versus improper workfiles. \nGo to Appraiser eLearning for details and to enroll!
URL:https://walitt.com/event/ultimate-workfile-what-when-why-4-hr-ce-june-19-zoom/
CATEGORIES:Appraisal Management Companies,Appraisers,Associations and Educators,Bank and Lenders,Regulators
ATTACH;FMTTYPE=image/jpeg:https://walitt.com/wp-content/uploads/2023/12/office-1209640-scaled.jpg
END:VEVENT
BEGIN:VEVENT
DTSTART;TZID=UTC:20240530T080000
DTEND;TZID=UTC:20240530T170000
DTSTAMP:20260422T025306
CREATED:20240531T193528Z
LAST-MODIFIED:20240531T193528Z
UID:3758-1717056000-1717088400@walitt.com
SUMMARY:7-hr USPAP Update (CE) Nov 14 - Denver (In-Person)
DESCRIPTION:Join Joshua Walitt\, AQB Certified USPAP Instructor\, with McKissock Learning on November 14 in Denver\, Colorado as he walks you through the 7-hour National USPAP Update course. Students will learn and review ethical and performance standards for appraisers in the United States. USPAP sets the standards for developing and reporting appraisals\, and teaches students to be independent\, impartial\, objective\, and competent and ensures a high level of professionalism and knowledge in appraisers. \nGo to McKissock Learning to enroll by selecting your state and topic.
URL:https://walitt.com/event/7-hr-uspap-update-ce-nov-14-denver-in-person/
CATEGORIES:Appraisal Management Companies,Appraisers,Associations and Educators,Bank and Lenders,Regulators
ATTACH;FMTTYPE=image/jpeg:https://walitt.com/wp-content/uploads/2023/12/shutterstock_2061421943-scaled.jpg
END:VEVENT
BEGIN:VEVENT
DTSTART;TZID=America/Denver:20240528T090000
DTEND;TZID=America/Denver:20240528T123000
DTSTAMP:20260422T025306
CREATED:20240306T205458Z
LAST-MODIFIED:20240306T205458Z
UID:3618-1716886800-1716899400@walitt.com
SUMMARY:Non-Lending Appraisals: Expanding Your Appraisal Practice (CE) May 28-29 - Zoom
DESCRIPTION:Don’t put all your eggs in one basket! Join Appraiser eLearning\, as Joshua Walitt instructs his popular Appraising for Private Appraisals course. Class is held as two half-days on May 28 and 29. \nGo to Appraiser eLearning for details and to enroll.
URL:https://walitt.com/event/non-lending-appraisals-expanding-your-appraisal-practice-ce-may-28-29-zoom/
CATEGORIES:Appraisers,Associations and Educators,Regulators
ATTACH;FMTTYPE=image/jpeg:https://walitt.com/wp-content/uploads/2023/11/shutterstock_2142010187-scaled.jpg
END:VEVENT
BEGIN:VEVENT
DTSTART;TZID=America/Denver:20240430T080000
DTEND;TZID=America/Denver:20240430T120000
DTSTAMP:20260422T025306
CREATED:20240321T171800Z
LAST-MODIFIED:20240321T171800Z
UID:3646-1714464000-1714478400@walitt.com
SUMMARY:Ultimate Workfile: What\, When\, Why (4 hr CE) April 30 - Zoom
DESCRIPTION:Join Josh Walitt with Appraiser eLearning as he instructs the Ultimate Workfile course over Zoom on April 30. \nGo to Appraiser eLearning for details and to enroll!
URL:https://walitt.com/event/ultimate-workfile-what-when-why-4-hr-ce-april-30-zoom/
CATEGORIES:Appraisal Management Companies,Appraisers,Associations and Educators,Bank and Lenders,Regulators
ATTACH;FMTTYPE=image/jpeg:https://walitt.com/wp-content/uploads/2023/11/AdobeStock_498160199-scaled.jpeg
END:VEVENT
BEGIN:VEVENT
DTSTART;TZID=America/Denver:20240410T090000
DTEND;TZID=America/Denver:20240410T123000
DTSTAMP:20260422T025306
CREATED:20240321T155005Z
LAST-MODIFIED:20240401T202818Z
UID:3626-1712739600-1712752200@walitt.com
SUMMARY:7-hr USPAP Update (CE) April 10 & 11 - Zoom
DESCRIPTION:Join Aloft Appraisal\, as Joshua Walitt instructs the 7-Hour USPAP Update course. Class is held as two half-days on April 10 & 11 on Zoom. \nGo to Aloft University \, and then select your class and state for details and to enroll. Use coupon code Learn2024! at checkout for 20% off course and books.
URL:https://walitt.com/event/7-hr-uspap-update-ce-april-10-11-zoom/
CATEGORIES:Appraisal Management Companies,Appraisers,Associations and Educators,Bank and Lenders,Regulators
ATTACH;FMTTYPE=image/jpeg:https://walitt.com/wp-content/uploads/2023/12/AdobeStock_393652002-1-scaled.jpeg
END:VEVENT
BEGIN:VEVENT
DTSTART;TZID=America/Denver:20240405T073000
DTEND;TZID=America/Denver:20240405T153000
DTSTAMP:20260422T025306
CREATED:20240321T155146Z
LAST-MODIFIED:20240321T155146Z
UID:3634-1712302200-1712331000@walitt.com
SUMMARY:Non-Lending Appraisals: Expanding Your Appraisal Practice (CE) April 5 - Zoom
DESCRIPTION:Don’t put all your eggs in one basket! Join Appraiser eLearning\, as Joshua Walitt instructs his popular Non-Lending Appraisals course on expanding your appraisal practice. Class is April 5 on Zoom. \nGo to Appraiser eLearning for details and to enroll.
URL:https://walitt.com/event/non-lending-appraisals-expanding-your-appraisal-practice-ce-april-5-zoom/
CATEGORIES:Appraisal Management Companies,Appraisers,Associations and Educators,Bank and Lenders,Regulators
ATTACH;FMTTYPE=image/jpeg:https://walitt.com/wp-content/uploads/2023/11/shutterstock_750835114-scaled.jpg
END:VEVENT
BEGIN:VEVENT
DTSTART;TZID=UTC:20240229T080000
DTEND;TZID=UTC:20240229T170000
DTSTAMP:20260422T025306
CREATED:20240205T224641Z
LAST-MODIFIED:20240214T162313Z
UID:3529-1709193600-1709226000@walitt.com
SUMMARY:Back to Basics: Fixing Dangerous Mistakes (7 hr CE) Feb 29 - Casper\, WY
DESCRIPTION:Join the Appraisal Institute\, as Josh Walitt goes back to the basics in teaching how to fix and recover from mistakes that could have serious consequences. \nGo to the Appraisal Institute for details and to enroll!
URL:https://walitt.com/event/back-to-basics-fixing-dangerous-mistakes-7-hr-ce-feb-29-casper-wy/
CATEGORIES:Appraisal Management Companies,Appraisers,Associations and Educators,Bank and Lenders
ATTACH;FMTTYPE=image/jpeg:https://walitt.com/wp-content/uploads/2023/11/shutterstock_1463771867-scaled.jpg
END:VEVENT
BEGIN:VEVENT
DTSTART;VALUE=DATE:20240101
DTEND;VALUE=DATE:20250101
DTSTAMP:20260422T025306
CREATED:20231212T204335Z
LAST-MODIFIED:20231228T174517Z
UID:3274-1704067200-1735689599@walitt.com
SUMMARY:Book a Custom Class for Your Group!
DESCRIPTION:Want to schedule a class from our catalog of courses? Or do you not see a topic that your office\, agency or professional association needs? \nRequest a class today!
URL:https://walitt.com/event/test-event/
CATEGORIES:Appraisal Management Companies,Appraisers,Associations and Educators,Bank and Lenders,Other Clients,Private Event,Regulators
ATTACH;FMTTYPE=image/png:https://walitt.com/wp-content/uploads/2023/12/Walitt-Solutions-logo-cropped-p-e1716329980178.png
END:VEVENT
END:VCALENDAR