BEGIN:VCALENDAR
VERSION:2.0
PRODID:-//WALITT SOLUTIONS - ECPv6.15.14//NONSGML v1.0//EN
CALSCALE:GREGORIAN
METHOD:PUBLISH
X-WR-CALNAME:WALITT SOLUTIONS
X-ORIGINAL-URL:https://walitt.com
X-WR-CALDESC:Events for WALITT SOLUTIONS
REFRESH-INTERVAL;VALUE=DURATION:PT1H
X-Robots-Tag:noindex
X-PUBLISHED-TTL:PT1H
BEGIN:VTIMEZONE
TZID:UTC
BEGIN:STANDARD
TZOFFSETFROM:+0000
TZOFFSETTO:+0000
TZNAME:UTC
DTSTART:20230101T000000
END:STANDARD
END:VTIMEZONE
BEGIN:VTIMEZONE
TZID:America/Denver
BEGIN:DAYLIGHT
TZOFFSETFROM:-0700
TZOFFSETTO:-0600
TZNAME:MDT
DTSTART:20230312T090000
END:DAYLIGHT
BEGIN:STANDARD
TZOFFSETFROM:-0600
TZOFFSETTO:-0700
TZNAME:MST
DTSTART:20231105T080000
END:STANDARD
BEGIN:DAYLIGHT
TZOFFSETFROM:-0700
TZOFFSETTO:-0600
TZNAME:MDT
DTSTART:20240310T090000
END:DAYLIGHT
BEGIN:STANDARD
TZOFFSETFROM:-0600
TZOFFSETTO:-0700
TZNAME:MST
DTSTART:20241103T080000
END:STANDARD
BEGIN:DAYLIGHT
TZOFFSETFROM:-0700
TZOFFSETTO:-0600
TZNAME:MDT
DTSTART:20250309T090000
END:DAYLIGHT
BEGIN:STANDARD
TZOFFSETFROM:-0600
TZOFFSETTO:-0700
TZNAME:MST
DTSTART:20251102T080000
END:STANDARD
BEGIN:DAYLIGHT
TZOFFSETFROM:-0700
TZOFFSETTO:-0600
TZNAME:MDT
DTSTART:20260308T090000
END:DAYLIGHT
BEGIN:STANDARD
TZOFFSETFROM:-0600
TZOFFSETTO:-0700
TZNAME:MST
DTSTART:20261101T080000
END:STANDARD
BEGIN:DAYLIGHT
TZOFFSETFROM:-0700
TZOFFSETTO:-0600
TZNAME:MDT
DTSTART:20270314T090000
END:DAYLIGHT
BEGIN:STANDARD
TZOFFSETFROM:-0600
TZOFFSETTO:-0700
TZNAME:MST
DTSTART:20271107T080000
END:STANDARD
END:VTIMEZONE
BEGIN:VEVENT
DTSTART;VALUE=DATE:20260411
DTEND;VALUE=DATE:20260415
DTSTAMP:20260421T235351
CREATED:20260114T172647Z
LAST-MODIFIED:20260114T173353Z
UID:4221-1775865600-1776211199@walitt.com
SUMMARY:Appraiser's Conference and Trade Show (ACTS) - Seattle
DESCRIPTION:The Walitt team will be sponsoring and attending the ACTS in 2026! We hope to see you there. \nJoin co-hosts\, the National Association of Appraisers and Appraiser eLearning\,  at the 8th annual Appraiser’s Conference and Trade Show (ACTS) that will be held April 11-14 in Seattle\, WA at the Seattle Airport Marriott Hotel. \nSeattle\, up to 14 hours of Appraiser CE \nSet an appointment to meet with us: support@walitt.com.
URL:https://walitt.com/event/appraisers-conference-and-trade-show-acts-seattle/
CATEGORIES:Appraisal Management Companies,Appraisers,Associations and Educators,Bank and Lenders,Other Clients,Regulators
END:VEVENT
BEGIN:VEVENT
DTSTART;TZID=America/Denver:20260331T090000
DTEND;TZID=America/Denver:20260331T120000
DTSTAMP:20260421T235351
CREATED:20260114T172016Z
LAST-MODIFIED:20260114T195553Z
UID:4217-1774947600-1774958400@walitt.com
SUMMARY:Supporting Adjustments and Reporting the Sales Comparison Approach in the New URAR (CE) - Virtual
DESCRIPTION:The new Uniform Residential Appraisal Report (URAR) challenges appraisers to deliver a report in a confident manner to clients with a credible analysis that meets the minimum reporting requirements of the Government-Sponsored Enterprises (GSEs). The new URAR requires that support for adjustments be included directly in the appraisal report\, so residential practitioners need to understand the expectations of the GSEs and underwriters around these topics. Supporting Adjustments and Reporting the Sales Comparison Approach in the New URAR is a three-hour program that focuses on an effective manner of developing and supporting the sales comparison approach section of the new URAR. Case studies will represent real-world residential appraisal valuation problems and the multiple qualitative and quantitative ways that each of the major adjustments in a residential sales grid can be supported. Since the applicable and appropriate techniques for any specific adjustment usually produce some variation in the indicated contributory value\, the art and science of reconciliation will also be emphasized through repeated application. The program will be valuable for residential appraisers to strengthen their proficiency in both the sales comparison approach and in supporting the adjustments used in the sales grid. The program will also be valuable for reviewers of residential reports. \nVirtual (Online)\, 4 hours\, Appraiser CE \nThank you to the Appraisal Institute Colorado Chapter.
URL:https://walitt.com/event/supporting-adjustments-and-reporting-the-sales-comparison-approach-in-the-new-urar-ce-virtual/
CATEGORIES:Appraisal Management Companies,Appraisers,Associations and Educators,Bank and Lenders,Other Clients,Regulators
END:VEVENT
BEGIN:VEVENT
DTSTART;TZID=America/Denver:20260326T124500
DTEND;TZID=America/Denver:20260326T143000
DTSTAMP:20260421T235351
CREATED:20260312T192225Z
LAST-MODIFIED:20260318T203911Z
UID:4382-1774529100-1774535400@walitt.com
SUMMARY:2026 Spring IAC Public Meeting - Miami
DESCRIPTION:The Walitt team will be attending the 2026 Spring IAC Public Meeting in Miami! We hope to see you there. \nJoshua Walitt will be moderating a Commercial and Residential Work session at the 2026 Spring IAC Public Meeting that will be held March 26 in Miami\, FL at the Hyatt Regency Miami. \nSet an appointment to meet with us: support@walitt.com.
URL:https://walitt.com/event/2026-spring-iac-public-meeting-miami/
CATEGORIES:Appraisal Management Companies,Appraisers,Associations and Educators,Bank and Lenders,Other Clients,Regulators
END:VEVENT
BEGIN:VEVENT
DTSTART;TZID=America/Denver:20260324T100000
DTEND;TZID=America/Denver:20260324T110000
DTSTAMP:20260421T235351
CREATED:20260312T194420Z
LAST-MODIFIED:20260312T194420Z
UID:4384-1774346400-1774350000@walitt.com
SUMMARY:AI & the Lending Ecosystem (non-CE) - Virtual
DESCRIPTION:AI adoption across mortgage lending is accelerating — and the valuation function sits squarely at the intersection of risk\, regulation\, and data. This 60-minute webinar cuts through the noise to deliver a clear-eyed\, strategic examination of what artificial intelligence actually means for lenders\, appraisal management companies\, and appraisers today. \nYou’ll leave with a practical framework for evaluating how AI is already reshaping collateral risk decisions\, what governance obligations now attach to its use\, and what it will take for your organization to stay both competitive and defensible as the landscape continues to shift. \nVirtual (online)\, 1 hour\, non-CE
URL:https://walitt.com/event/ai-the-lending-ecosystem-non-ce-virtual/
CATEGORIES:Appraisal Management Companies,Appraisers,Associations and Educators,Bank and Lenders,Other Clients,Regulators
END:VEVENT
BEGIN:VEVENT
DTSTART;TZID=America/Denver:20260320T100000
DTEND;TZID=America/Denver:20260320T130000
DTSTAMP:20260421T235351
CREATED:20260313T173259Z
LAST-MODIFIED:20260313T173355Z
UID:4389-1774000800-1774011600@walitt.com
SUMMARY:UAD 3.6 Readiness Workshop - Austin
DESCRIPTION:Join us on March 20 for an exclusive session with Lyle Radke\, Principal of Collateral Policy at Fannie Mae\, as he dives into the latest updates on the Uniform Appraisal Dataset (UAD) 3.6. Cindi Harris with Walitt Solutions will follow and take everyone through a DEEP DIVE into the what the new UAD 3.6 dynamic report looks like. Cindi will review each section in the new report to familiarize the audience with what to expect and highlight the CHANGES coming. A Q&A session will follow. Don’t miss this chance to stay ahead of appraisal standards and compliance changes! \nHosted by the iappraisal and the Austin Board of REALTORS®\, this event offers residential mortgage lenders a unique opportunity to gain insights and ask questions directly from a leading industry expert. \nAustin\, 3-hours non-CE
URL:https://walitt.com/event/uad-3-6-readiness-workshop-austin/
CATEGORIES:Appraisal Management Companies,Appraisers,Associations and Educators,Bank and Lenders,Other Clients,Regulators
END:VEVENT
BEGIN:VEVENT
DTSTART;TZID=America/Denver:20260304T113000
DTEND;TZID=America/Denver:20260304T153000
DTSTAMP:20260421T235351
CREATED:20260226T190538Z
LAST-MODIFIED:20260226T190538Z
UID:4338-1772623800-1772638200@walitt.com
SUMMARY:A Roadmap to Reporting on the New URAR (4-hour CE) - Virtual
DESCRIPTION:The redesigned Uniform Residential Appraisal Report (URAR)\, built on the UAD 3.6 standard\, is now fully in production as of January 26\, 2026—making adoption a requirement for today’s appraisers. This course provides a clear\, practical introduction to the new dynamic reporting framework and prepares appraisers to produce compliant\, data‑rich reports that meet modern lender and regulatory expectations. \nLearners will explore how the traditional static forms have been replaced with a flexible\, property‑driven structure; how machine‑readable\, MISMO‑aligned data improves accuracy and review efficiency; and how integrated photos\, commentary\, and APIs streamline workflow and reduce addenda. The course highlights what these changes mean for appraisers\, lenders\, and the broader industry\, emphasizing improved consistency\, faster reviews\, and stronger risk assessment. \nBy the end\, participants will understand the redesigned URAR’s requirements and be equipped to deliver high‑quality reports in the UAD 3.6 environment. \nVirtual (Online) 4-hours\, Appraiser CE. \nThank you to Champions School of Real Estate
URL:https://walitt.com/event/a-roadmap-to-reporting-on-the-new-urar-4-hour-ce-virtual/
CATEGORIES:Appraisal Management Companies,Appraisers,Associations and Educators,Bank and Lenders,Other Clients,Regulators
END:VEVENT
BEGIN:VEVENT
DTSTART;TZID=America/Denver:20260224T080000
DTEND;TZID=America/Denver:20260224T120000
DTSTAMP:20260421T235351
CREATED:20260114T171119Z
LAST-MODIFIED:20260114T195604Z
UID:4215-1771920000-1771934400@walitt.com
SUMMARY:Reporting Market Analysis and Better Understanding the New URAR (CE) - Virtual
DESCRIPTION:The new Uniform Residential Appraisal Report (URAR) challenges appraisers to deliver a report in a confident manner to clients with a credible analysis that meets the minimum reporting requirements of the Government-Sponsored Enterprises (GSEs). Unlike the existing 1004 report form\, the new URAR places more emphasis on supporting and reporting a thorough market analysis for the subject property. In the past\, appraisers often kept the market analysis support in the workfile. Going forward\, support is expected within the appraisal report. Reporting Market Analysis and Better Understanding the New URAR is a four-hour program that focuses on lending assignments for residential properties using the new URAR. Appraisers who are not well versed in completing a thorough and credible market analysis will find this program to be most helpful. The program will also be a good refresher for the experienced appraiser and the reviewer of residential reports. \nVirtual (Online)\, 4 hours\, Appraiser CE \nThank you to the Appraisal Institute Colorado Chapter.
URL:https://walitt.com/event/reporting-market-analysis-and-better-understanding-the-new-urar-ce-virtual/
CATEGORIES:Appraisal Management Companies,Appraisers,Associations and Educators,Bank and Lenders,Other Clients,Regulators
END:VEVENT
BEGIN:VEVENT
DTSTART;TZID=America/Denver:20250122T120000
DTEND;TZID=America/Denver:20250122T160000
DTSTAMP:20260421T235351
CREATED:20250102T170204Z
LAST-MODIFIED:20250102T180237Z
UID:3947-1737547200-1737561600@walitt.com
SUMMARY:Unlocking Valuation Conditions: Desktop & Hybrid Appraisals Jan 22 - Zoom
DESCRIPTION:Josh Walitt and McKissock Learning unite for this course designed to provide guidance on developing and reporting desktop and hybrid appraisal assignments in accordance with USPAP. Specifically tailored to address the intricacies of completing Fannie Mae and Freddie Mac’s 1004Hybrid/70H and 1004Desktop/70D appraisal reports\, participants will acquire essential skills for meeting the GSE requirements. \nGo to McKissock Learning to enroll by selecting your state and topic
URL:https://walitt.com/event/unlocking-valuation-conditions-desktop-hybrid-appraisals-zoom/
CATEGORIES:Appraisal Management Companies,Appraisers,Associations and Educators,Bank and Lenders,Other Clients
ATTACH;FMTTYPE=image/webp:https://walitt.com/wp-content/uploads/2025/01/Desktop.webp
END:VEVENT
BEGIN:VEVENT
DTSTART;TZID=America/Denver:20250108T073000
DTEND;TZID=America/Denver:20250109T153000
DTSTAMP:20260421T235351
CREATED:20241111T172952Z
LAST-MODIFIED:20241111T180847Z
UID:3927-1736321400-1736436600@walitt.com
SUMMARY:Non-Lending Appraisals: Expanding Your Appraisal Practice (7-Hr. CE) Jan 8 & 9 - Zoom
DESCRIPTION:Don’t put all your eggs in one basket! Join Josh Walitt with Appraiser eLearning as he instructs his popular Non-Lending Appraisals course over a two day Zoom on January 8th and 9th. The course walks appraisers through the possibilities and requirements of non-lender appraisal work\, including assessment appeal\, pre-purchase\, pre-listing\, divorce\, estate\, and IRS-related work. Students explore necessary components of private appraisal work\, such as development steps\, forms\, and narrative. General practices and supplemental requirements unique to private appraisal are emphasized\, alongside examining USPAP as the foundation for development and reporting. \nGo to Appraiser eLearning for details and to enroll
URL:https://walitt.com/event/non-lending-appraisals-expanding-your-appraisal-practice-7-hr-ce-jan-8-9-zoom/
CATEGORIES:Appraisers,Associations and Educators,Other Clients,Regulators
ATTACH;FMTTYPE=image/jpeg:https://walitt.com/wp-content/uploads/2023/11/shutterstock_2070182660-scaled.jpg
END:VEVENT
BEGIN:VEVENT
DTSTART;TZID=America/Denver:20241021T110000
DTEND;TZID=America/Denver:20241021T150000
DTSTAMP:20260421T235351
CREATED:20241017T211550Z
LAST-MODIFIED:20241017T211550Z
UID:3899-1729508400-1729522800@walitt.com
SUMMARY:Navigating Essential Tools for Real Estate Appraisal (4 hr CE) Oct 21 - Zoom
DESCRIPTION:Join Joshua Walitt with McKissock Learning on October 21\, as he walks you through the Navigating Essential Tools for Real Estate Appraisal course. In this course students will explore essential tools\, techniques\, and technology to revolutionize real estate appraisal operations. The course focuses on mastering client communication\, digital workspaces\, and automation basics\, empowering participants with insights to streamline workflows and boost efficiency. The course delves into field work tools such as digital cameras and mobile sketching software\, emphasizing the benefits of modern mobile and desktop technology. Students will also learn new strategies for establishing a professional online presence and staying updated on industry trends via social media and digital publications. Enroll now to efficiently enhance productivity and effectiveness in your appraisals. \nGo to McKissock Learning to enroll by selecting your state\, education type and subject.
URL:https://walitt.com/event/navigating-essential-tools-for-real-estate-appraisal-4-hr-ce-oct-21-zoom/
CATEGORIES:Appraisal Management Companies,Appraisers,Associations and Educators,Bank and Lenders,Other Clients,Regulators
ATTACH;FMTTYPE=image/jpeg:https://walitt.com/wp-content/uploads/2024/10/Appraial-Tools-Image.jpg
END:VEVENT
BEGIN:VEVENT
DTSTART;TZID=America/Denver:20241010T140000
DTEND;TZID=America/Denver:20241010T180000
DTSTAMP:20260421T235351
CREATED:20240919T214031Z
LAST-MODIFIED:20240919T214031Z
UID:3877-1728568800-1728583200@walitt.com
SUMMARY:Navigating Essential Tools for Real Estate Appraisal (CE) Oct 10 – Live Webinar
DESCRIPTION:Join Joshua Walitt with McKissock Learning in a Live Webinar on October 10 as he walks you through the Navigating Essential Tools for Real Estate Appraisal course. In this course students will explore essential tools\, techniques\, and technology to revolutionize real estate appraisal operations. The course focuses on mastering client communication\, digital workspaces\, and automation basics\, empowering participants with insights to streamline workflows and boost efficiency. The course delves into field work tools such as digital cameras and mobile sketching software\, emphasizing the benefits of modern mobile and desktop technology. Students will also learn new strategies for establishing a professional online presence and staying updated on industry trends via social media and digital publications. Enroll now to efficiently enhance productivity and effectiveness in your appraisals. \nGo to McKissock Learning to enroll by selecting your state and topic.
URL:https://walitt.com/event/navigating-essential-tools-for-real-estate-appraisal-ce-oct-10-live-webinar/
CATEGORIES:Appraisal Management Companies,Appraisers,Associations and Educators,Bank and Lenders,Other Clients
ATTACH;FMTTYPE=image/jpeg:https://walitt.com/wp-content/uploads/2024/05/shutterstock_1419693740-scaled.jpg
END:VEVENT
BEGIN:VEVENT
DTSTART;VALUE=DATE:20240819
DTEND;VALUE=DATE:20240822
DTSTAMP:20260421T235351
CREATED:20240724T162148Z
LAST-MODIFIED:20240724T162148Z
UID:3849-1724025600-1724284799@walitt.com
SUMMARY:Meet Stacy at Valuation Expo! Las Vegas\, Caesars Palace
DESCRIPTION:Our Senior Valuation and Regulatory Consultant\, Stacy Caprioli\, will be attending the 2024 Valuation Expo in Las Vegas at the Caesars Palace Hotel on August 19 – 21. \nShe’d enjoy the opportunity to meet with you there! Click here to set an appointment. \nWith all the changes happening in the valuation space\, she’d enjoy sharing with you what Walitt Solutions has been up to and discuss opportunities for our team to support your business. \nValuation professionals from across the nation converge to Embrace Their Super Powers. Held at the iconic Caesars Palace in Las Vegas from August 19-21\, this conference promises to be a groundbreaking event featuring top industry thought leaders. Join us as we delve into the future of appraisal with discussions on artificial intelligence\, the new Freddie Mac and Fannie Mae GSE UAD Redesign\, cutting-edge technology\, data trends\, and the nuances of subjective language. Whether you’re an appraiser\, part of an AMC\, lender\, technology company\, software company\, education\, or involved in E&O Insurance\, this conference is your premier opportunity to stay at the forefront of industry advancements. Don’t miss the chance to connect\, learn\, and empower your valuation journey. \nRegister for the event here. \n 
URL:https://walitt.com/event/meet-stacy-at-valuation-expo-las-vegas-caesars-palace/
CATEGORIES:Appraisal Management Companies,Appraisers,Associations and Educators,Bank and Lenders,Other Clients,Regulators
ATTACH;FMTTYPE=image/png:https://walitt.com/wp-content/uploads/2024/07/Val-Expo-banner.png
END:VEVENT
BEGIN:VEVENT
DTSTART;TZID=America/Denver:20240709T110000
DTEND;TZID=America/Denver:20240709T120000
DTSTAMP:20260421T235351
CREATED:20240618T183021Z
LAST-MODIFIED:20240708T130715Z
UID:3796-1720522800-1720526400@walitt.com
SUMMARY:New Framework to Reconsiderations of Value - July 9\, 2024 (Webinar)
DESCRIPTION:Join us for a Lunch-and-Learn (or Brunch-and-Learn depending on your time zone) \nIn 2024\, Fannie Mae\, Freddie Mac\, and HUD issued guidance and new requirements for reconsiderations of value in appraisals impacting the practice of lenders and appraisers. Join panelists Stacy Caprioli\, Senior Valuation and Regulatory Consultant with Walitt Solutions\, and Ayako Marsh\, Principal Consultant with A&B Real Estate Group\, as they discuss the details and impact of the new framework on the mortgage lending space. Josh Walitt\, Principal Consultant with Walitt Solutions\, will moderate. \nWhat:  GSE and HUD guidelines and new requirements for reconsiderations of value in mortgage lending appraisal assignments. \nWhen: July 9\, 2024 at 1:00 pm Eastern (12:00 noon Central\, 11:00 am Mountain\, 10:00 am Pacific) for one hour. \nWhere: Online Zoom (register below). \nWho should attend: appraisers\, lenders\, banks\, brokers\, agents\, appraisal management companies\, regulators\, educators\, reviewers\, advocacy groups\, and other parties in the mortgage space. \nAttendees will have the opportunity to submit questions for the panelists during the webinar using the Zoom Q&A feature. \nA recording will be posted to the Walitt Vault within two days after the webinar. \n  \n[Register here] before July 9!
URL:https://walitt.com/event/new-framework-to-reconsiderations-of-value-july-9-2024-webinar/
CATEGORIES:Appraisal Management Companies,Appraisers,Associations and Educators,Bank and Lenders,Other Clients,Regulators
ATTACH;FMTTYPE=image/jpeg:https://walitt.com/wp-content/uploads/2024/06/pexels-photo-271265.jpeg
END:VEVENT
BEGIN:VEVENT
DTSTART;TZID=America/Denver:20240628T113000
DTEND;TZID=America/Denver:20240628T123000
DTSTAMP:20260421T235351
CREATED:20240621T172205Z
LAST-MODIFIED:20240621T174859Z
UID:3808-1719574200-1719577800@walitt.com
SUMMARY:New Reconsideration of Value (ROV) Requirements - June 28
DESCRIPTION:Join Joshua Walitt along with other panelists as they discuss Navigating New Reconsideration of Value Requirements with Lenders via Zoom on Friday\, June 28\, 2024. \nAttendees will understand the new requirements released by Fannie Mae\, Freddie Mac\, and HUD earlier in 2024. These requirements have an implementation deadline\, and this webinar will provide a clear and actionable guide to understanding what changes need to be made and how to make them. \nLearn the impact of the new ROV guidelines on lenders and how the borrower-initiated ROV process works. \nYour responsibilities as a lender under the new guidelines\, including:\n– Notifying borrowers of their ROV rights\n– Screening ROV requests for compliance\n– Ensuring proper communication with borrowers and appraisers\n– Maintaining appraiser independence \nRegister through Class Valuation.
URL:https://walitt.com/event/new-reconsideration-of-value-rov-requirements-june-28/
CATEGORIES:Appraisal Management Companies,Appraisers,Associations and Educators,Bank and Lenders,Other Clients,Regulators
ATTACH;FMTTYPE=image/jpeg:https://walitt.com/wp-content/uploads/2022/05/Josh-Walitt-9b-scaled-e1653941197731.jpg
END:VEVENT
BEGIN:VEVENT
DTSTART;VALUE=DATE:20240101
DTEND;VALUE=DATE:20250101
DTSTAMP:20260421T235351
CREATED:20231212T204335Z
LAST-MODIFIED:20231228T174517Z
UID:3274-1704067200-1735689599@walitt.com
SUMMARY:Book a Custom Class for Your Group!
DESCRIPTION:Want to schedule a class from our catalog of courses? Or do you not see a topic that your office\, agency or professional association needs? \nRequest a class today!
URL:https://walitt.com/event/test-event/
CATEGORIES:Appraisal Management Companies,Appraisers,Associations and Educators,Bank and Lenders,Other Clients,Private Event,Regulators
ATTACH;FMTTYPE=image/png:https://walitt.com/wp-content/uploads/2023/12/Walitt-Solutions-logo-cropped-p-e1716329980178.png
END:VEVENT
END:VCALENDAR