BEGIN:VCALENDAR
VERSION:2.0
PRODID:-//WALITT SOLUTIONS - ECPv6.15.14//NONSGML v1.0//EN
CALSCALE:GREGORIAN
METHOD:PUBLISH
X-ORIGINAL-URL:https://walitt.com
X-WR-CALDESC:Events for WALITT SOLUTIONS
REFRESH-INTERVAL;VALUE=DURATION:PT1H
X-Robots-Tag:noindex
X-PUBLISHED-TTL:PT1H
BEGIN:VTIMEZONE
TZID:America/Denver
BEGIN:DAYLIGHT
TZOFFSETFROM:-0700
TZOFFSETTO:-0600
TZNAME:MDT
DTSTART:20250309T090000
END:DAYLIGHT
BEGIN:STANDARD
TZOFFSETFROM:-0600
TZOFFSETTO:-0700
TZNAME:MST
DTSTART:20251102T080000
END:STANDARD
BEGIN:DAYLIGHT
TZOFFSETFROM:-0700
TZOFFSETTO:-0600
TZNAME:MDT
DTSTART:20260308T090000
END:DAYLIGHT
BEGIN:STANDARD
TZOFFSETFROM:-0600
TZOFFSETTO:-0700
TZNAME:MST
DTSTART:20261101T080000
END:STANDARD
BEGIN:DAYLIGHT
TZOFFSETFROM:-0700
TZOFFSETTO:-0600
TZNAME:MDT
DTSTART:20270314T090000
END:DAYLIGHT
BEGIN:STANDARD
TZOFFSETFROM:-0600
TZOFFSETTO:-0700
TZNAME:MST
DTSTART:20271107T080000
END:STANDARD
END:VTIMEZONE
BEGIN:VEVENT
DTSTART;TZID=America/Denver:20260602T090000
DTEND;TZID=America/Denver:20260602T130000
DTSTAMP:20260422T023813
CREATED:20260114T195509Z
LAST-MODIFIED:20260114T195509Z
UID:4254-1780390800-1780405200@walitt.com
SUMMARY:Ulimate Workfile: What\, When\, Why (CE) - Virtual
DESCRIPTION:This course will delve into the USPAP Record Keeping rule and breakdown each of the components that should be contained in an appraiser’s workfile. The instructor will also review USPAP’s FAQ while helping the student to analyze other situations where these guidelines would apply. The student will learn how to create a checklist to ensure that each workfile is correctly assembled. They will develop the ability to identify what to retain\, when it needs to be retained and why each component is needed in the workfile. They will gain a deeper comprehension of how to prevent common record keeping mistakes. Students will examine real world examples of proper and improper workfiles. \nVirtual (Online)\, 4 hours\, Appraiser CE \nThank you to Appraiser eLearning.
URL:https://walitt.com/event/ulimate-workfile-what-when-why-ce-virtual/
CATEGORIES:Appraisal Management Companies,Appraisers,Associations and Educators,Bank and Lenders,Other Clients,Regulators
END:VEVENT
END:VCALENDAR